BEGIN:VCALENDAR
VERSION:2.0
PRODID:icalendar-ruby
CALSCALE:GREGORIAN
METHOD:PUBLISH
BEGIN:VEVENT
DTSTAMP:20260425T173821Z
UID:5-478063@mrchurch.us
DTSTART:20261101T153000Z
DTEND:20261101T163000Z
CLASS:PUBLIC
CREATED:20260425T131909
DESCRIPTION:Sunday Worship
LAST-MODIFIED:20260425T131909
LOCATION:
SUMMARY:Sunday Worship
URL;VALUE=URI:https://www.mrchurch.us/events/sunday-worship/2026-11-01
END:VEVENT
END:VCALENDAR
