BEGIN:VCALENDAR
VERSION:2.0
PRODID:icalendar-ruby
CALSCALE:GREGORIAN
METHOD:PUBLISH
BEGIN:VEVENT
DTSTAMP:20260425T155800Z
UID:5-477742@mrchurch.us
DTSTART:20261025T143000Z
DTEND:20261025T153000Z
CLASS:PUBLIC
CREATED:20260425T103902
DESCRIPTION:Sunday Worship
LAST-MODIFIED:20260425T103902
LOCATION:
SUMMARY:Sunday Worship
URL;VALUE=URI:https://www.mrchurch.us/events/sunday-worship/2026-10-25
END:VEVENT
END:VCALENDAR
