BEGIN:VCALENDAR
VERSION:2.0
PRODID:icalendar-ruby
CALSCALE:GREGORIAN
METHOD:PUBLISH
BEGIN:VEVENT
DTSTAMP:20260425T104157Z
UID:5-477099@mrchurch.us
DTSTART:20261004T143000Z
DTEND:20261004T153000Z
CLASS:PUBLIC
CREATED:20260424T221243
DESCRIPTION:Sunday Worship
LAST-MODIFIED:20260424T221243
LOCATION:
SUMMARY:Sunday Worship
URL;VALUE=URI:https://www.mrchurch.us/events/sunday-worship/2026-10-04
END:VEVENT
END:VCALENDAR
